Workbook

Sheet BASE AGOSTO
B2: LINEA | C2: GT | D2: SECCION | E2: PASAJEROS | F2: TTR AJUSTADA
B3: 4 | C3: DF | D3: 1 | E3: 220064 | F3: 3.389406e+08
B4: 4 | C4: DF | D4: 2 | E4: 140041 | F4: 2.6284194e+08
B5: 4 | C5: DF | D5: 3 | E5: 110175 | F5: 2.8128713e+08
B6: 4 | C6: DF | D6: 4 | E6: 55487 | F6: 2.3545734e+08
B7: 4 | C7: DF | D7: PP4 | E7: 3612 | F7: 7699218.7
B8: 7 | C8: DF | D8: 1 | E8: 106484 | F8: 1.6859367e+08
B9: 7 | C9: DF | D9: 2 | E9: 139232 | F9: 2.6893416e+08
B10: 7 | C10: DF | D10: 3 | E10: 90947 | F10: 2.3877748e+08
B11: 7 | C11: DF | D11: 4 | E11: 18725 | F11: 81924829
B12: 7 | C12: DF | D12: PP7 | E12: 4728 | F12: 10108366
B13: 12 | C13: DF | D13: 1 | E13: 460635 | F13: 7.1037617e+08
B14: 12 | C14: DF | D14: 2 | E14: 504889 | F14: 9.4680528e+08
B15: 12 | C15: DF | D15: 3 | E15: 227936 | F15: 5.8214255e+08
B16: 25 | C16: DF | D16: 1 | E16: 91144 | F16: 1.4096231e+08
B17: 25 | C17: DF | D17: 2 | E17: 111420 | F17: 2.1015338e+08
B18: 25 | C18: DF | D18: 3 | E18: 138209 | F18: 3.5453829e+08
B19: 25 | C19: DF | D19: 4 | E19: 36340 | F19: 1.5491604e+08
B20: 26 | C20: DF | D20: 1 | E20: 191467 | F20: 2.9612076e+08
B21: 26 | C21: DF | D21: 2 | E21: 347376 | F21: 6.5519873e+08
B22: 26 | C22: DF | D22: 3 | E22: 166572 | F22: 4.2729599e+08
B23: 26 | C23: DF | D23: 4 | E23: 6263 | F23: 26698931
B24: 34 | C24: DF | D24: 1 | E24: 240415 | F24: 3.6970873e+08
... B27: 34 | C27: DF | D27: 4 | E27: 27154 | F27: 1.1521042e+08
B28: 34 | C28: DF | D28: PP34 | E28: 15560 | F28: 33793677
B29: 39 | C29: DF | D29: 1 | E29: 326764 | F29: 5.1044383e+08
B30: 39 | C30: DF | D30: 2 | E30: 565925 | F30: 1.0782618e+09
B31: 39 | C31: DF | D31: 3 | E31: 404642 | F31: 1.0490457e+09
B32: 39 | C32: DF | D32: 4 | E32: 17874 | F32: 77036761
B33: 42 | C33: DF | D33: 1 | E33: 126806 | F33: 1.9696444e+08
B34: 42 | C34: DF | D34: 2 | E34: 250895 | F34: 4.7534373e+08
B35: 42 | C35: DF | D35: 3 | E35: 238149 | F35: 6.1392672e+08
B36: 42 | C36: DF | D36: 4 | E36: 59889 | F36: 2.5667062e+08
B37: 44 | C37: DF | D37: 1 | E37: 184687 | F37: 3.0398277e+08
B38: 44 | C38: DF | D38: 2 | E38: 241344 | F38: 4.8543542e+08
B39: 44 | C39: DF | D39: 3 | E39: 179007 | F39: 4.8953344e+08
B40: 44 | C40: DF | D40: 4 | E40: 15530 | F40: 70334610
B41: 44 | C41: DF | D41: PP44 | E41: 5477 | F41: 11900677
B42: 47 | C42: DF | D42: 1 | E42: 113225 | F42: 1.729476e+08
B43: 47 | C43: DF | D43: 2 | E43: 151661 | F43: 2.8243101e+08
...

Sheet APERTURA POR TTR
B2: LINEA | C2: SECCION | D2: TTR | E2: PASAJEROS | F2: TIPO DE TTR
B3: 4 | C3: 1 | D3: 1405.99 | E3: 10014 | F3: GO
B4: 4 | C4: 1 | D4: 1546.589 | E4: 160 | F4: ELECTRICO-CABA + Reportando
B5: 4 | C5: 1 | D5: 1546.589 | E5: 209890 | F5: GO + Reportando
B6: 4 | C6: 2 | D6: 1714.67 | E6: 7550 | F6: GO
B7: 4 | C7: 2 | D7: 1886.137 | E7: 186 | F7: ELECTRICO-CABA + Reportando
B8: 4 | C8: 2 | D8: 1886.137 | E8: 132305 | F8: GO + Reportando
B9: 4 | C9: 3 | D9: 2332.03 | E9: 5735 | F9: GO
B10: 4 | C10: 3 | D10: 2565.233 | E10: 377 | F10: ELECTRICO-CABA + Reportando
B11: 4 | C11: 3 | D11: 2565.233 | E11: 104063 | F11: GO + Reportando
B12: 4 | C12: 4 | D12: 3875.42 | E12: 2791 | F12: GO
B13: 4 | C13: 4 | D13: 4262.962 | E13: 41 | F13: ELECTRICO-CABA + Reportando
B14: 4 | C14: 4 | D14: 4262.962 | E14: 52655 | F14: GO + Reportando
B15: 4 | C15: PP4 | D15: 1942.8734 | E15: 104 | F15: GO
B16: 4 | C16: PP4 | D16: 2137.1607 | E16: 3508 | F16: GO + Reportando
B17: 7 | C17: 1 | D17: 1546.589 | E17: 97222 | F17: GO + Reportando
B18: 7 | C18: 1 | D18: 1968.386 | E18: 9262 | F18: GNC + Reportando
B19: 7 | C19: 2 | D19: 1886.137 | E19: 126939 | F19: GO + Reportando
B20: 7 | C20: 2 | D20: 2400.538 | E20: 12293 | F20: GNC + Reportando
B21: 7 | C21: 3 | D21: 2565.233 | E21: 83118 | F21: GO + Reportando
B22: 7 | C22: 3 | D22: 3264.842 | E22: 7829 | F22: GNC + Reportando
B23: 7 | C23: 4 | D23: 4262.962 | E23: 16918 | F23: GO + Reportando
B24: 7 | C24: 4 | D24: 5425.588 | E24: 1807 | F24: GNC + Reportando
B25: 7 | C25: PP7 | D25: 2083.4181 | E25: 4274 | F25: GO + Reportando
B26: 7 | C26: PP7 | D26: 2651.6231 | E26: 454 | F26: GNC + Reportando
B27: 12 | C27: 1 | D27: 1405.99 | E27: 33246 | F27: GO
B28: 12 | C28: 1 | D28: 1546.589 | E28: 421136 | F28: GO + Reportando
B29: 12 | C29: 1 | D29: 1968.386 | E29: 6253 | F29: GNC + Reportando
B30: 12 | C30: 2 | D30: 1714.67 | E30: 53040 | F30: GO
B31: 12 | C31: 2 | D31: 1886.137 | E31: 444831 | F31: GO + Reportando
B32: 12 | C32: 2 | D32: 2400.538 | E32: 7018 | F32: GNC + Reportando
B33: 12 | C33: 3 | D33: 2332.03 | E33: 21643 | F33: GO
B34: 12 | C34: 3 | D34: 2565.233 | E34: 202747 | F34: GO + Reportando
B35: 12 | C35: 3 | D35: 3264.842 | E35: 3546 | F35: GNC + Reportando
B36: 25 | C36: 1 | D36: 1546.589 | E36: 91144 | F36: GO + Reportando
B37: 25 | C37: 2 | D37: 1886.137 | E37: 111420 | F37: GO + Reportando
B38: 25 | C38: 3 | D38: 2565.233 | E38: 138209 | F38: GO + Reportando
... B55: 34 | C55: 4 | D55: 4262.962 | E55: 18437 | F55: GO + Reportando
B56: 34 | C56: PP34 | D56: 1988.9046 | E56: 1249 | F56: GO
B57: 34 | C57: PP34 | D57: 2187.7951 | E57: 2015 | F57: ELECTRICO-CABA + Reportando
...

Sheet TTR
B2: SECCIÓN | C2: Tarifa Teórica | D2: TTR + Cámaras | E2: TTR + GNC | F2: TTR + Eléctrico | G2: TTR + GNC CABA | H2: TTR + Eléctrico CABA | I2: TTR + GNC + Cámaras | J2: TTR + Eléctrico + Cámaras | K2: TTR + GNC CABA + Cámaras | L2: TTR + Eléctrico CABA + Cámaras
B3: 1 | C3: 1405.99 | D3: 1546.589 | E3: 1827.787 | F3: 2108.985 | G3: 1405.99 | H3: 1405.99 | I3: 1968.386 | J3: 2249.584 | K3: 1546.589 | L3: 1546.589
B4: 2 | C4: 1714.67 | D4: 1886.137 | E4: 2229.071 | F4: 2572.005 | G4: 1714.67 | H4: 1714.67 | I4: 2400.538 | J4: 2743.472 | K4: 1886.137 | L4: 1886.137
B5: 3 | C5: 2332.03 | D5: 2565.233 | E5: 3031.639 | F5: 3498.045 | G5: 2332.03 | H5: 2332.03 | I5: 3264.842 | J5: 3731.248 | K5: 2565.233 | L5: 2565.233
B6: 4 | C6: 3875.42 | D6: 4262.962 | E6: 5038.046 | F6: 5813.13 | G6: 3875.42 | H6: 3875.42 | I6: 5425.588 | J6: 6200.672 | K6: 4262.962 | L6: 4262.962
B7: 1E | C7: 1757.49 | D7: 1933.2363 | E7: 2284.7337 | F7: 2636.2313 | G7: 1757.4875 | H7: 1757.4875 | I7: 2460.4825 | J7: 2811.98 | K7: 1933.2363 | L7: 1933.2363
B8: 2E | C8: 2143.34 | D8: 2357.6713 | E8: 2786.3388 | F8: 3215.0063 | G8: 2143.3375 | H8: 2143.3375 | I8: 3000.6725 | J8: 3429.34 | K8: 2357.6713 | L8: 2357.6713
B9: 3E | C9: 2915.04 | D9: 3206.5413 | E9: 3789.5488 | F9: 4372.5562 | G9: 2915.0375 | H9: 2915.0375 | I9: 4081.0525 | J9: 4664.06 | K9: 3206.5413 | L9: 3206.5413
B10: 4E | C10: 4844.28 | D10: 5328.7025 | E10: 6297.5575 | F10: 7266.4125 | G10: 4844.275 | H10: 4844.275 | I10: 6781.985 | J10: 7750.84 | K10: 5328.7025 | L10: 5328.7025
B11: 1EA | C11: 2460.49 | D11: 2706.5308 | E11: 3198.6273 | F11: 3690.7238 | G11: 2460.4825 | H11: 2460.4825 | I11: 3444.6755 | J11: 3936.772 | K11: 2706.5308 | L11: 2706.5308
B12: 2EA | C12: 3000.68 | D12: 3300.7398 | E12: 3900.8743 | F12: 4501.0087 | G12: 3000.6725 | H12: 3000.6725 | I12: 4200.9415 | J12: 4801.076 | K12: 3300.7398 | L12: 3300.7398
B13: 3EA | C13: 4081.05 | D13: 4489.1578 | E13: 5305.3683 | F13: 6121.5788 | G13: 4081.0525 | H13: 4081.0525 | I13: 5713.4735 | J13: 6529.684 | K13: 4489.1578 | L13: 4489.1578
B14: 4EA | C14: 6781.99 | D14: 7460.1835 | E14: 8816.5805 | F14: 10172.978 | G14: 6781.985 | H14: 6781.985 | I14: 9494.779 | J14: 10851.176 | K14: 7460.1835 | L14: 7460.1835
B15: PP4 | C15: 1942.8734 | D15: 2137.1607 | E15: 2525.7354 | F15: 2914.3101 | G15: 1942.8734 | H15: 1942.8734 | I15: 2720.0228 | J15: 3108.5974 | K15: 2137.1607 | L15: 2137.1607
B16: PP7 | C16: 1894.0165 | D16: 2083.4181 | E16: 2462.2215 | F16: 2841.0248 | G16: 1894.0165 | H16: 1894.0165 | I16: 2651.6231 | J16: 3030.4264 | K16: 2083.4181 | L16: 2083.4181
B17: PP34 | C17: 1988.9046 | D17: 2187.7951 | E17: 2585.576 | F17: 2983.3569 | G17: 1988.9046 | H17: 1988.9046 | I17: 2784.4664 | J17: 3182.2474 | K17: 2187.7951 | L17: 2187.7951
B18: PP44 | C18: 1854.9593 | D18: 2040.4552 | E18: 2411.4471 | F18: 2782.4389 | G18: 1854.9593 | H18: 1854.9593 | I18: 2596.943 | J18: 2967.9349 | K18: 2040.4552 | L18: 2040.4552
... B28: PP151 | C28: 1950.156 | D28: 2145.1716 | E28: 2535.2028 | F28: 2925.234 | G28: 1950.156 | H28: 1950.156 | I28: 2730.2184 | J28: 3120.2496 | K28: 2145.1716 | L28: 2145.1716
B29: PP: Prueba piloto. Las TTR se construyen de acuerdo a la Resolución Nº 170/SECT/25
B30: Pueden existir diferencias por redondeo a 2 decimales

Sheet KM
B2: LINEA | C2: KM MENSUALES
B3: 4 | C3: 225330.24
B4: 7 | C4: 177607.65
B5: 12 | C5: 320090.4
B6: 25 | C6: 180624.95
B7: 26 | C7: 232486.34
B8: 34 | C8: 427079
B9: 39 | C9: 405510.07
B10: 42 | C10: 248682.96
B11: 44 | C11: 244706.7
B12: 47 | C12: 186603.8
B13: 50 | C13: 291524.09
B14: 61 | C14: 45960.2
... B29: 151 | C29: 292906.68
B30: TOTAL | C30: =+SUM(C3:C29) -> 6989115.8

Sheet LIQUIDACIÓN AGOSTO 2026
B2: COMPENSACIÓN TOTAL | C2: 2.1177603e+10
B4: ID LINEA | C4: CUIT | D4: RAZON SOCIAL | E4: LINEA | F4: ATS (sin IVA)* | G4: BI (sin IVA) | H4: BE (sin IVA) | I4: RECAUDACIÓN (sin IVA) | J4: TTR | K4: TTR FINAL | L4: % | M4: COMPENSACIÓN | N4: DIFERENCIAL DE RECAUDACIÓN - CUOTA 4/4 | O4: RELIQUIDACIÓN MES DE JULIO - ERROR EN PM CON GNC | P4: LIQUIDACIÓN FINAL*
B5: 3520 | C5: 30-54634053-4 | D5: JUAN B. JUSTO S.A.T.C.I. | E5: 4 | F5: 64222763 | G5: 56778433 | H5: 12031470 | I5: 3.0677574e+08 | J5: =+SUMIFS('BASE AGOSTO'!F:F,'BASE AGOSTO'!B:B,'LIQUIDACIÓN AGOSTO 2026'!E5) -> 1.1262262e+09 | K5: =+J5-SUM(F5:I5) -> 6.8641782e+08 | L5: =+K5/SUM($K$5:$K$31) -> 0.027058563 | M5: =+L5*($C$2-SUM($F$32:$H$32)) -> 4.5962009e+08 | N5: -3216923.8 | O5: -3043219.5 | P5: =+SUM(M5:O5,F5:H5) -> 5.8639261e+08
B6: 1337 | C6: 30-54622797-5 | D6: EMPRESA DE TRANSPORTES AUTOMOTORES 12 DE OCTUBRE S A | E6: 7 | F6: 43886996 | G6: 22719024 | H6: 10324393 | I6: 2.2451188e+08 | J6: =+SUMIFS('BASE AGOSTO'!F:F,'BASE AGOSTO'!B:B,'LIQUIDACIÓN AGOSTO 2026'!E6) -> 7.683385e+08 | K6: =+J6-SUM(F6:I6) -> 4.6689621e+08 | L6: =+K6/SUM($K$5:$K$31) -> 0.01840503 | M6: =+L6*($C$2-SUM($F$32:$H$32)) -> 3.1263011e+08 | N6: -2565454.5 | O6: 859198.77 | P6: =+SUM(M6:O6,F6:H6) -> 3.8785426e+08
B7: 1327 | C7: 30-54622919-6 | D7: TRANSPORTES AUTOMOTORES CALLAO SA | E7: 12 | F7: 1.3756271e+08 | G7: 1.0850985e+08 | H7: 19639257 | I7: 7.1057644e+08 | J7: =+SUMIFS('BASE AGOSTO'!F:F,'BASE AGOSTO'!B:B,'LIQUIDACIÓN AGOSTO 2026'!E7) -> 2.239324e+09 | K7: =+J7-SUM(F7:I7) -> 1.2630357e+09 | L7: =+K7/SUM($K$5:$K$31) -> 0.049788818 | M7: =+L7*($C$2-SUM($F$32:$H$32)) -> 8.45719e+08 | N7: -6605976.4 | O7: -5699794 | P7: =+SUM(M7:O7,F7:H7) -> 1.0991251e+09
B8: 1333 | C8: 30-55665485-5 | D8: TRANSPORTES AUTOMOTORES RIACHUELO S.A. | E8: 25 | F8: 45176898 | G8: 26961318 | H8: 9724679 | I8: 2.400791e+08 | J8: =+SUMIFS('BASE AGOSTO'!F:F,'BASE AGOSTO'!B:B,'LIQUIDACIÓN AGOSTO 2026'!E8) -> 8.6057002e+08 | K8: =+J8-SUM(F8:I8) -> 5.3862803e+08 | L8: =+K8/SUM($K$5:$K$31) -> 0.021232695 | M8: =+L8*($C$2-SUM($F$32:$H$32)) -> 3.6066118e+08 | N8: -2623804.7 | O8: -2427529.7 | P8: =+SUM(M8:O8,F8:H8) -> 4.3747274e+08
B9: 1336 | C9: 30-57190196-6 | D9: 17 DE AGOSTO S.A. | E9: 26 | F9: 84901065 | G9: 39600605 | H9: 20766573 | I9: 4.4715792e+08 | J9: =+SUMIFS('BASE AGOSTO'!F:F,'BASE AGOSTO'!B:B,'LIQUIDACIÓN AGOSTO 2026'!E9) -> 1.4053144e+09 | K9: =+J9-SUM(F9:I9) -> 8.1288824e+08 | L9: =+K9/SUM($K$5:$K$31) -> 0.032044022 | M9: =+L9*($C$2-SUM($F$32:$H$32)) -> 5.4430371e+08 | N9: -4203752.9 | O9: -3269707.7 | P9: =+SUM(M9:O9,F9:H9) -> 6.8209849e+08
B10: 1345 | C10: 30-56844599-2 | D10: JUAN B. JUSTO S.A.T.C.I. | E10: 34 | F10: 1.2804375e+08 | G10: 1.257574e+08 | H10: 13429619 | I10: 7.356063e+08 | J10: =+SUMIFS('BASE AGOSTO'!F:F,'BASE AGOSTO'!B:B,'LIQUIDACIÓN AGOSTO 2026'!E10) -> 2.5558984e+09 | K10: =+J10-SUM(F10:I10) -> 1.5530613e+09 | L10: =+K10/SUM($K$5:$K$31) -> 0.061221614 | M10: =+L10*($C$2-SUM($F$32:$H$32)) -> 1.0399179e+09 | N10: -7728568.4 | O10: -7342809 | P10: =+SUM(M10:O10,F10:H10) -> 1.2920773e+09
B11: 1350 | C11: 30-54624137-4 | D11: TRANSPORTES SANTA FE S.A.C.E.I. | E11: 39 | F11: 1.395304e+08 | G11: 109891679 | H11: 14989835 | I11: 8.4209114e+08 | J11: =+SUMIFS('BASE AGOSTO'!F:F,'BASE AGOSTO'!B:B,'LIQUIDACIÓN AGOSTO 2026'!E11) -> 2.7147882e+09 | K11: =+J11-SUM(F11:I11) -> 1.6082851e+09 | L11: =+K11/SUM($K$5:$K$31) -> 0.063398534 | M11: =+L11*($C$2-SUM($F$32:$H$32)) -> 1.0768953e+09 | N11: -8410786.5 | O11: -7477407.9 | P11: =+SUM(M11:O11,F11:H11) -> 1.325419e+09
B12: 1338 | C12: 30-54623134-4 | D12: TRANSPORTES COLEGIALES SACI | E12: 42 | F12: 77882867 | G12: 64193444 | H12: 11304634 | I12: 426044799 | J12: =+SUMIFS('BASE AGOSTO'!F:F,'BASE AGOSTO'!B:B,'LIQUIDACIÓN AGOSTO 2026'!E12) -> 1.5429055e+09 | K12: =+J12-SUM(F12:I12) -> 9.6347976e+08 | L12: =+K12/SUM($K$5:$K$31) -> 0.037980334 | M12: =+L12*($C$2-SUM($F$32:$H$32)) -> 6.4513863e+08 | N12: -5108477.3 | O12: 1496044.8 | P12: =+SUM(M12:O12,F12:H12) -> 7.9490714e+08
B13: 1322 | C13: 33-54633982-9 | D13: DOTA SA DE TRANSPORTE AUTOMOTOR | E13: 44 | F13: 74925103 | G13: 65695874 | H13: 12682336 | I13: 3.6873595e+08 | J13: =+SUMIFS('BASE AGOSTO'!F:F,'BASE AGOSTO'!B:B,'LIQUIDACIÓN AGOSTO 2026'!E13) -> 1.3611869e+09 | K13: =+J13-SUM(F13:I13) -> 8.3914766e+08 | L13: =+K13/SUM($K$5:$K$31) -> 0.033079167 | M13: =+L13*($C$2-SUM($F$32:$H$32)) -> 5.6188681e+08 | N13: -4128108.8 | O13: -3754202.2 | P13: =+SUM(M13:O13,F13:H13) -> 7.0730781e+08
B14: 1349 | C14: 30-54630419-8 | D14: LINEA DE MICROOMNIBUS 47 SOCIEDAD ANONIMA | E14: 47 | F14: 52720585 | G14: 32979450 | H14: 18188032 | I14: 2.3177487e+08 | J14: =+SUMIFS('BASE AGOSTO'!F:F,'BASE AGOSTO'!B:B,'LIQUIDACIÓN AGOSTO 2026'!E14) -> 8.4455961e+08 | K14: =+J14-SUM(F14:I14) -> 5.0889668e+08 | L14: =+K14/SUM($K$5:$K$31) -> 0.020060687 | M14: =+L14*($C$2-SUM($F$32:$H$32)) -> 3.407533e+08 | N14: -2458073.9 | O14: -2489455.8 | P14: =+SUM(M14:O14,F14:H14) -> 4.3969383e+08
B15: 1323 | C15: 33-70223426-9 | D15: NUDO SA | E15: 50 | F15: 82234887 | G15: 42820998 | H15: 18641525 | I15: 3.9339559e+08 | J15: =+SUMIFS('BASE AGOSTO'!F:F,'BASE AGOSTO'!B:B,'LIQUIDACIÓN AGOSTO 2026'!E15) -> 1.4232779e+09 | K15: =+J15-SUM(F15:I15) -> 8.8618493e+08 | L15: =+K15/SUM($K$5:$K$31) -> 0.034933375 | M15: =+L15*($C$2-SUM($F$32:$H$32)) -> 5.9338261e+08 | N15: -4682519.7 | O15: -4202487.1 | P15: =+SUM(M15:O15,F15:H15) -> 7.2819501e+08
B16: 1341 | C16: 30-54625055-1 | D16: LA CENTRAL DE VICENTE LOPEZ S.A.C. | E16: 61 | F16: 21818967 | G16: 21058737 | H16: 3412334 | I16: 1.1118265e+08 | J16: =+SUMIFS('BASE AGOSTO'!F:F,'BASE AGOSTO'!B:B,'LIQUIDACIÓN AGOSTO 2026'!E16) -> 3.5600439e+08 | K16: =+J16-SUM(F16:I16) -> 1.985317e+08 | L16: =+K16/SUM($K$5:$K$31) -> 0.0078261117 | M16: =+L16*($C$2-SUM($F$32:$H$32)) -> 1.329353e+08 | N16: -1054706 | O16: -924926.62 | P16: =+SUM(M16:O16,F16:H16) -> 1.772457e+08
... B31: 1329 | C31: 30-54650008-6 | D31: LA NUEVA METROPOL SATACI | E31: 151 | F31: 1.1056994e+08 | G31: 72985885 | H31: 17118978 | I31: 5.8629169e+08 | J31: =+SUMIFS('BASE AGOSTO'!F:F,'BASE AGOSTO'!B:B,'LIQUIDACIÓN AGOSTO 2026'!E31) -> 2.5435124e+09 | K31: =+J31-SUM(F31:I31) -> 1.7565459e+09 | L31: =+K31/SUM($K$5:$K$31) -> 0.06924297 | M31: =+L31*($C$2-SUM($F$32:$H$32)) -> 1.1761696e+09 | N31: -8754841.2 | O31: 42405788 | P31: =+SUM(M31:O31,F31:H31) -> 1.4104954e+09
B32: TOTAL | F32: =+SUM(F5:F31) -> 2.2396864e+09 | G32: =+SUM(G5:G31) -> 1.5719986e+09 | H32: =+SUM(H5:H31) -> 3.7979458e+08 | I32: =+SUM(I5:I31) -> 1.1854976e+10 | J32: =+SUM(J5:J31) -> 4.1414315e+10 | K32: =+SUM(K5:K31) -> 2.5367859e+10 | L32: =+SUM(L5:L31) -> 1 | M32: =+SUM(M5:M31) -> 1.6986123e+10 | ... P32: =+SUM(P5:P31) -> 2.1050128e+10
B33: * El monto correspondiente a la Tarifa Social Federal (ATS) será transferido a las empresas luego de que la Secretaría de Transporte de la Nación realice el giro de fondos correspondiente.
